BEGIN:VCALENDAR
VERSION:2.0
PRODID:-//Catering to Love - ECPv6.15.20//NONSGML v1.0//EN
CALSCALE:GREGORIAN
METHOD:PUBLISH
X-ORIGINAL-URL:https://cateringtolove.org
X-WR-CALDESC:Events for Catering to Love
REFRESH-INTERVAL;VALUE=DURATION:PT1H
X-Robots-Tag:noindex
X-PUBLISHED-TTL:PT1H
BEGIN:VTIMEZONE
TZID:UTC
BEGIN:STANDARD
TZOFFSETFROM:+0000
TZOFFSETTO:+0000
TZNAME:UTC
DTSTART:20240101T000000
END:STANDARD
END:VTIMEZONE
BEGIN:VEVENT
DTSTART;TZID=UTC:20251028T101500
DTEND;TZID=UTC:20251028T120000
DTSTAMP:20260424T081657
CREATED:20250222T194958Z
LAST-MODIFIED:20250508T120213Z
UID:873-1761646500-1761652800@cateringtolove.org
SUMMARY:Tarrant County's 5 Stones Taskforce Luncheon
DESCRIPTION:5 Stones\, FWPD’s counter-human  trafficking taskforce\, has invited us out to serve lunch to the local non-profits\, churches\, government agencies and others who gather to collaborate on the battle against human trafficking.  We’re looking for folks who’d like to help cook and/or serve with us! Contact us for more details. \nJoin Us
URL:https://cateringtolove.org/event/tarrant-countys-5-stones-taskforce-luncheon-4/
ATTACH;FMTTYPE=image/png:https://cateringtolove.org/wp-content/uploads/2022/03/5-stones-Logo-1-21-small.png
END:VEVENT
BEGIN:VEVENT
DTSTART;TZID=UTC:20251109T110000
DTEND;TZID=UTC:20251109T143000
DTSTAMP:20260424T081657
CREATED:20251029T160916Z
LAST-MODIFIED:20251029T160916Z
UID:1012-1762686000-1762698600@cateringtolove.org
SUMMARY:Christ Chapel Biblew Church 's Foster Adopt Sunday
DESCRIPTION:Foster Adopt Sunday Luncheon – Christ Chapel Bible Church\, Fort Worth Campus\nFoster Adopt Sunday at Christ Chapel Bible Church’s Fort Worth Campus! This special luncheon brings together our church family to share a meal and hear about the incredible work happening through the Foster Adopt Ministry. Come enjoy good food\, meaningful stories\, and learn how you can get involved and support children and families in our community. \nWe are honored to be invited to serve lunch at this wonderful event. We’re also looking for volunteers to help us serve! If you’d like to lend a hand and be part of this day of encouragement and community\, we’d love to have you join our team. Together\, we can share God’s love through food\, service\, and support for those making a difference in the foster and adoptive community. \nJoin Us
URL:https://cateringtolove.org/event/christ-chapel-biblew-church-s-foster-adopt-sunday/
ATTACH;FMTTYPE=image/png:https://cateringtolove.org/wp-content/uploads/2025/10/CCBC1.png
END:VEVENT
BEGIN:VEVENT
DTSTART;TZID=UTC:20251112T180000
DTEND;TZID=UTC:20251112T210000
DTSTAMP:20260424T081657
CREATED:20251103T191443Z
LAST-MODIFIED:20251103T191443Z
UID:1015-1762970400-1762981200@cateringtolove.org
SUMMARY:🕊️ DFW CBMC Trusted Advisor Forum – Annual Gathering 2025
DESCRIPTION:The CBMC DFW family will come together for its first Annual Gathering in 2025\, a celebration of faith\, business\, and community. This special event will unite leaders from across North Texas to reflect\, connect\, and look forward with purpose and gratitude. \nwe are delighted to serve at this meaningful event. Our mission goes beyond great food—we serve to nurture connection\, joy\, and gratitude at every table. \nJoin Us
URL:https://cateringtolove.org/event/%f0%9f%95%8a%ef%b8%8f-dfw-cbmc-trusted-advisor-forum-annual-gathering-2025/
ATTACH;FMTTYPE=image/jpeg:https://cateringtolove.org/wp-content/uploads/2025/11/CBMC-LOGO.jpg
END:VEVENT
BEGIN:VEVENT
DTSTART;TZID=UTC:20251113T110000
DTEND;TZID=UTC:20251113T130000
DTSTAMP:20260424T081657
CREATED:20251110T213022Z
LAST-MODIFIED:20251110T213022Z
UID:1017-1763031600-1763038800@cateringtolove.org
SUMMARY:The Greater Keller Chamber of Commerce's Non Profit Luncheon
DESCRIPTION:The Greater Keller Chamber of Commerce is hosting a Non-Profit Luncheon — a special event created to bring together local nonprofit leaders and community partners for networking\, learning\, and collaboration.Guests will have the chance to connect with peers\, hear from an inspiring speaker\, and enjoy a freshly grilled burger lunch prepared onsite by us. \nJoin Us
URL:https://cateringtolove.org/event/the-greater-keller-chamber-of-commerces-non-profit-luncheon/
ATTACH;FMTTYPE=image/jpeg:https://cateringtolove.org/wp-content/uploads/2025/02/The_Greater_Keller_Chamber_Logo.jpg
END:VEVENT
BEGIN:VEVENT
DTSTART;TZID=UTC:20251114T110000
DTEND;TZID=UTC:20251114T133000
DTSTAMP:20260424T081657
CREATED:20250930T123334Z
LAST-MODIFIED:20250930T123334Z
UID:997-1763118000-1763127000@cateringtolove.org
SUMMARY:AARP's 2025 Aging & Housing Summit
DESCRIPTION:AARP to Host 2025 Aging & Housing Summit for Older Adults \nAARP will host the 2025 Aging & Housing Summit\, a free event designed to connect older adults with essential housing resources and support.Attendees will learn about tenant rights\, resources for homeowners\, affordable housing options\, and strategies to prevent homelessness among older adults. The summit will also feature local experts and programs focused on helping seniors age in place safely and independently.We are honored to be invited to serve lunch\, adding a warm touch to a meaningful day of learning and connection.This event reflects AARP’s ongoing commitment to empowering older adults through knowledge\, resources\, and community care. \nWe are looking for volunteers to help serve lunch and create a warm and welcoming experience for attendees. This is a wonderful opportunity to give back to the community and support an event dedicated to helping older adults age with dignity. \nJoin Us
URL:https://cateringtolove.org/event/aarps-2025-aging-housing-summit/
ATTACH;FMTTYPE=image/jpeg:https://cateringtolove.org/wp-content/uploads/2025/09/City-of-Dallas--e1759235020370.jpg
END:VEVENT
BEGIN:VEVENT
DTSTART;TZID=UTC:20251115T170000
DTEND;TZID=UTC:20251115T200000
DTSTAMP:20260424T081657
CREATED:20250930T193527Z
LAST-MODIFIED:20250930T193527Z
UID:1000-1763226000-1763236800@cateringtolove.org
SUMMARY:Buckner's Thanksgiving Dinner 2025
DESCRIPTION:🍁 Thanksgiving Dinner for Buckner Clients 🦃\n \nBuckner is honoring the season of gratitude by inviting all active clients to a special Thanksgiving Dinner\, It’s a heartfelt occasion to reflect\, connect\, and celebrate the season together.This client-only event is a way to say thank you for being part of the Buckner community. Guests will enjoy a warm\, comforting meal in a welcoming and festive atmosphere. \nWe are honor to be invited to serve dinner for our loving families \nJoin Us
URL:https://cateringtolove.org/event/buckners-thanksgiving-dinner-2025/
ATTACH;FMTTYPE=image/png:https://cateringtolove.org/wp-content/uploads/2025/09/buckner-logo-vertical.png
END:VEVENT
BEGIN:VEVENT
DTSTART;TZID=UTC:20251125T101500
DTEND;TZID=UTC:20251125T120000
DTSTAMP:20260424T081657
CREATED:20250222T194902Z
LAST-MODIFIED:20250222T194902Z
UID:872-1764065700-1764072000@cateringtolove.org
SUMMARY:Tarrant County's 5 Stones Taskforce Luncheon
DESCRIPTION:5 Stones\, FWPD’s counter-human  trafficking taskforce\, has invited us out to serve lunch to the local non-profits\, churches\, government agencies and others who gather to collaborate on the battle against human trafficking.  We’re looking for folks who’d like to help cook and/or serve with us! Contact us for more details. \nJoin Us
URL:https://cateringtolove.org/event/tarrant-countys-5-stones-taskforce-luncheon-3/
ATTACH;FMTTYPE=image/png:https://cateringtolove.org/wp-content/uploads/2022/03/5-stones-Logo-1-21-small.png
END:VEVENT
BEGIN:VEVENT
DTSTART;TZID=UTC:20251206T080000
DTEND;TZID=UTC:20251206T130000
DTSTAMP:20260424T081657
CREATED:20251122T223704Z
LAST-MODIFIED:20251122T223704Z
UID:1019-1765008000-1765026000@cateringtolove.org
SUMMARY:Grapevine Community Outreach Center's Breakfast with Santa 2025
DESCRIPTION:🎄 Breakfast with Santa at Grapevine Community Outreach Center 🎅 \nThe Grapevine Community Outreach Center will be hosting its annual Breakfast with Santa\, a festive event designed to bring neighborhood families together for a warm and joyful holiday celebration. We are honored to serve breakfast and add a special touch to the morning. \nFamilies attending the event will also have the opportunity to take a free photo with Santa\, creating lasting holiday memories for children and adults alike. The event continues to be a cherished tradition within the community\, offering connection\, celebration\, and seasonal cheer. \nJoin Us
URL:https://cateringtolove.org/event/grapevine-community-outreach-centers-breakfast-with-santa-2025/
ATTACH;FMTTYPE=image/png:https://cateringtolove.org/wp-content/uploads/2023/05/Grapevine-Outreach-Center-Logo.png
END:VEVENT
BEGIN:VEVENT
DTSTART;TZID=UTC:20251206T090000
DTEND;TZID=UTC:20251206T130000
DTSTAMP:20260424T081657
CREATED:20251029T230934Z
LAST-MODIFIED:20251029T230934Z
UID:1014-1765011600-1765026000@cateringtolove.org
SUMMARY:🎄 Readers 2 Leaders’ Holiday Storytime Brings Literacy and Holiday Cheer to West Dallas! 🎅🏽✨
DESCRIPTION:Readers 2 Leaders is spreading holiday cheer with their annual Holiday Storytime\, a free community event dedicated to promoting literacy and family fun in West Dallas! \nFamilies are invited to enjoy an afternoon filled with exciting activities\, including:📚 Read Alouds & Storytime Sessions🎨 Crafts and Games for Kids🎁 Fun Giveaways📸 Photos with Santa🍴 Delicious Food & Hot Chocolate  \nWe are proud to partner with Readers 2 Leaders to serve up comforting food and hot chocolate for families attending this special event. It’s a wonderful way to celebrate the season\, connect with the community\, and support local literacy initiatives. \nCome share in the joy — because every story starts with community! ❤️ \nJoin Us
URL:https://cateringtolove.org/event/%f0%9f%8e%84-readers-2-leaders-holiday-storytime-brings-literacy-and-holiday-cheer-to-west-dallas-%f0%9f%8e%85%f0%9f%8f%bd%e2%9c%a8/
ATTACH;FMTTYPE=image/jpeg:https://cateringtolove.org/wp-content/uploads/2025/06/R2LLogo.jpg
END:VEVENT
BEGIN:VEVENT
DTSTART;TZID=UTC:20251206T090000
DTEND;TZID=UTC:20251206T140000
DTSTAMP:20260424T081657
CREATED:20251122T225421Z
LAST-MODIFIED:20251122T225421Z
UID:1020-1765011600-1765029600@cateringtolove.org
SUMMARY:Unfaulted's Both Hands Widow Service Day
DESCRIPTION:🛠️ Unfaulted’s Both Hands Widow Service Day \nUnfaulted is hosting a Both Hands Widow Service Day to support a recent widow with essential home repairs. Volunteers will work together to provide practical help and encouragement. \nWe are honored to be invited  to serve food to the volunteers\, helping fuel their efforts throughout the day. \nThis event highlights the heart of Both Hands—serving widows and strengthening community. \nJoin Us
URL:https://cateringtolove.org/event/unfaulteds-both-hands-widow-service-day/
ATTACH;FMTTYPE=image/png:https://cateringtolove.org/wp-content/uploads/2023/05/Unfaulted-Logo.png
END:VEVENT
BEGIN:VEVENT
DTSTART;TZID=UTC:20251211T103000
DTEND;TZID=UTC:20251211T133000
DTSTAMP:20260424T081657
CREATED:20250508T120836Z
LAST-MODIFIED:20251123T005623Z
UID:912-1765449000-1765459800@cateringtolove.org
SUMMARY:Pregnancy Help 4 U Luncheon December 2025
DESCRIPTION:Pregnancy Help 4 U is training partnering churches on crisis – shames – trauma so they will know how to care for the girls they send to their churches for community – discipleship on their parenting journey to be productive/healthy parents while walking with Christ. We’ve been invited by Pregnancy Help 4 U to serve lunch at their event with partnering churches! We need volunteers to help cook or serve lunch during the event. \nJoin Us
URL:https://cateringtolove.org/event/pregnancy-help-4-u-luncheon-december-2025/
ATTACH;FMTTYPE=image/jpeg:https://cateringtolove.org/wp-content/uploads/2025/05/Help4u.jpg
END:VEVENT
BEGIN:VEVENT
DTSTART;TZID=UTC:20251213T080000
DTEND;TZID=UTC:20251213T120000
DTSTAMP:20260424T081657
CREATED:20250930T195602Z
LAST-MODIFIED:20250930T195602Z
UID:1002-1765612800-1765627200@cateringtolove.org
SUMMARY:Keller UMC Resource Center's Christmas Adventure
DESCRIPTION:🎄 Christmas Adventure at Keller UMC Resource Center 🎁A Special Event for Angel Tree Families \nThe Keller UMC Resource Center is spreading holiday cheer with its annual Christmas Adventure—a fun-filled event created especially for the families of the KUMC Angel Tree program. \nFamilies will enjoy festive activities\, games\, treats\, and plenty of Christmas cheer. A delicious holiday meal will be lovingly prepared and served by us.
URL:https://cateringtolove.org/event/keller-umc-resource-centers-christmas-adventure/
ATTACH;FMTTYPE=image/jpeg:https://cateringtolove.org/wp-content/uploads/2025/09/Keller-UMC.jpg
END:VEVENT
BEGIN:VEVENT
DTSTART;TZID=UTC:20251213T110000
DTEND;TZID=UTC:20251213T140000
DTSTAMP:20260424T081657
CREATED:20250909T115309Z
LAST-MODIFIED:20250909T115309Z
UID:987-1765623600-1765634400@cateringtolove.org
SUMMARY:Unfaulted's Fun Day December 2025
DESCRIPTION:🎄 Unfaulted’s Upcoming Fun Day: A Celebration of Joy and Community 🎁 \nThis December\, Unfaulted will host its annual Fun Day—a heartfelt event dedicated to celebrating the young women in their program. This year’s gathering will also serve as their Christmas meal and gift exchange\, creating a warm\, festive space filled with joy and connection. \nWe are honored to provide the Christmas meal\, helping make the day even more special with a delicious and comforting feast. \nFun Day is a time to remind each participant that they are seen\, valued\, and deeply loved—especially during the holiday season. \nJoin Us
URL:https://cateringtolove.org/event/unfaulteds-fun-day-december-2025/
ATTACH;FMTTYPE=image/png:https://cateringtolove.org/wp-content/uploads/2023/05/Unfaulted-Logo.png
END:VEVENT
BEGIN:VEVENT
DTSTART;TZID=UTC:20251220T080000
DTEND;TZID=UTC:20251220T120000
DTSTAMP:20260424T081657
CREATED:20251003T014434Z
LAST-MODIFIED:20251003T014434Z
UID:1005-1766217600-1766232000@cateringtolove.org
SUMMARY:Chosen Ones Annual Christmas Bash
DESCRIPTION:🎄 Chosen Ones Annual Christmas Bash 🎄🎁❤️Bringing Joy to Foster Families This Holiday Season! \nWe’re thrilled to be part of the Chosen Ones Annual Christmas Bash\, a heartwarming event designed to bring foster families and children together for a morning of festive fun\, laughter\, and love. \nThis special celebration is all about community and connection—We are honored to serve a delicious breakfast to kick off the day! \n✨ Expect smiles\, games\, music\, and of course\, the Christmas spirit in full swing. It’s a beautiful way to give back and make lasting memories with some incredible families. \nJoin Us
URL:https://cateringtolove.org/event/chosen-ones-annual-christmas-bash/
ATTACH;FMTTYPE=image/png:https://cateringtolove.org/wp-content/uploads/2023/08/Chosen-Ones-Logo.png
END:VEVENT
BEGIN:VEVENT
DTSTART;TZID=UTC:20260107T170000
DTEND;TZID=UTC:20260107T203000
DTSTAMP:20260424T081657
CREATED:20260102T174201Z
LAST-MODIFIED:20260102T174201Z
UID:1024-1767805200-1767817800@cateringtolove.org
SUMMARY:Keller United Methodist Church Resource Center Volunteer Appreciation Dinner
DESCRIPTION:Keller United Methodist Church Resource Center is hosting a Volunteer Appreciation Dinner to celebrate and thank the incredible volunteers who serve through the food pantry and clothing closet. \nCatering to Love will be serving a Mediterranean dinner and is looking for volunteers to help serve. This is a wonderful opportunity to support those who give so much to the community and be part of an evening centered on gratitude\, service\, and love. \nJoin Us
URL:https://cateringtolove.org/event/keller-united-methodist-church-resource-center-volunteer-appreciation-dinner/
ATTACH;FMTTYPE=image/jpeg:https://cateringtolove.org/wp-content/uploads/2025/09/Keller-UMC.jpg
END:VEVENT
BEGIN:VEVENT
DTSTART;TZID=UTC:20260127T100000
DTEND;TZID=UTC:20260127T113000
DTSTAMP:20260424T081657
CREATED:20250929T093045Z
LAST-MODIFIED:20250929T093045Z
UID:989-1769508000-1769513400@cateringtolove.org
SUMMARY:Tarrant County's 5 Stones Taskforce Luncheon January 2026
DESCRIPTION:5 Stones\, FWPD’s counter-human  trafficking taskforce\, has invited us out to serve lunch to the local non-profits\, churches\, government agencies and others who gather to collaborate on the battle against human trafficking.  We’re looking for folks who’d like to help cook and/or serve with us! Contact us for more details. \nJoin Us
URL:https://cateringtolove.org/event/tarrant-countys-5-stones-taskforce-luncheon-january-2026/
ATTACH;FMTTYPE=image/png:https://cateringtolove.org/wp-content/uploads/2022/03/5-stones-Logo-1-21-small.png
END:VEVENT
BEGIN:VEVENT
DTSTART;TZID=UTC:20260129T163000
DTEND;TZID=UTC:20260129T200000
DTSTAMP:20260424T081657
CREATED:20251231T212625Z
LAST-MODIFIED:20251231T212625Z
UID:1022-1769704200-1769716800@cateringtolove.org
SUMMARY:SOS International's Food Fight 2026
DESCRIPTION:SOS International is hosting Food Fight\, a fundraiser dedicated to raising funds to purchase food for families experiencing food insecurity. Volunteers are warmly invited to help serve food and be part of a caring community effort. Every helping hand makes a meaningful difference. \n  \nJoin Us
URL:https://cateringtolove.org/event/sos-internationals-food-fight-2026/
ATTACH;FMTTYPE=image/png:https://cateringtolove.org/wp-content/uploads/2022/07/sos_logo.png
END:VEVENT
BEGIN:VEVENT
DTSTART;TZID=UTC:20260210T100000
DTEND;TZID=UTC:20260210T133000
DTSTAMP:20260424T081657
CREATED:20260129T020204Z
LAST-MODIFIED:20260129T020204Z
UID:1032-1770717600-1770730200@cateringtolove.org
SUMMARY:Christ's Haven for Children's February Lunch & Learn
DESCRIPTION:Christ’s Haven for Children will host its February Lunch & Learn\, inviting community members to visit the campus and learn more about the organization’s mission and impact. We are honored to serve lunch for this event. \nJoin Us
URL:https://cateringtolove.org/event/christs-haven-for-childrens-february-lunch-learn/
ATTACH;FMTTYPE=image/png:https://cateringtolove.org/wp-content/uploads/2024/03/ChristHavenLogo.png
END:VEVENT
BEGIN:VEVENT
DTSTART;TZID=UTC:20260212T080000
DTEND;TZID=UTC:20260213T170000
DTSTAMP:20260424T081657
CREATED:20260102T182614Z
LAST-MODIFIED:20260102T182614Z
UID:1025-1770883200-1771002000@cateringtolove.org
SUMMARY:DFW Unite Leadership 2-Day Conference 2026
DESCRIPTION:Unite DFW is hosting the DFW Unite Leadership 2-Day Conference\, gathering DFW leaders to discuss Holistic Flourishing in the Workplace through purpose-driven leadership pathways. \nWe will be serving breakfast and lunch both days and we are looking for volunteers to help serve. Join us in supporting an impactful event focused on unity\, leadership\, and transformation. \nJoin Us
URL:https://cateringtolove.org/event/dfw-unite-leadership-2-day-conference-2026/
ATTACH;FMTTYPE=image/png:https://cateringtolove.org/wp-content/uploads/2023/12/unite-dfw-logo.png
END:VEVENT
BEGIN:VEVENT
DTSTART;TZID=UTC:20260214T100000
DTEND;TZID=UTC:20260214T140000
DTSTAMP:20260424T081657
CREATED:20260126T193230Z
LAST-MODIFIED:20260126T194947Z
UID:1029-1771063200-1771077600@cateringtolove.org
SUMMARY:Cornerstone's Valentines Celebration 2026
DESCRIPTION:The Cornerstone Valentines Day event is an opportunity bring the community together to a day of music and fellowship. Several gospel groups are invited to participate. We’ve been invited to dress to impress\, cook and serve a 4 course meal to the local south Dallas community and homeless during the event. \nLearn More or Sign up  \n 
URL:https://cateringtolove.org/event/cornerstones-valentines-celebration-2026/
ATTACH;FMTTYPE=image/webp:https://cateringtolove.org/wp-content/uploads/2022/07/Cornerstone-Baptist-Church-Logo.webp
END:VEVENT
BEGIN:VEVENT
DTSTART;TZID=UTC:20260224T100000
DTEND;TZID=UTC:20260224T113000
DTSTAMP:20260424T081657
CREATED:20250929T094044Z
LAST-MODIFIED:20250929T094044Z
UID:990-1771927200-1771932600@cateringtolove.org
SUMMARY:Tarrant County's 5 Stones Taskforce February  Luncheon 2026
DESCRIPTION:5 Stones\, FWPD’s counter-human  trafficking taskforce\, has invited us out to serve lunch to the local non-profits\, churches\, government agencies and others who gather to collaborate on the battle against human trafficking.  We’re looking for folks who’d like to help cook and/or serve with us! Contact us for more details. \nJoin Us
URL:https://cateringtolove.org/event/tarrant-countys-5-stones-taskforce-february-luncheon-2026/
ATTACH;FMTTYPE=image/png:https://cateringtolove.org/wp-content/uploads/2022/03/5-stones-Logo-1-21-small.png
END:VEVENT
BEGIN:VEVENT
DTSTART;TZID=UTC:20260305T170000
DTEND;TZID=UTC:20260305T210000
DTSTAMP:20260424T081657
CREATED:20260225T022924Z
LAST-MODIFIED:20260225T022924Z
UID:1046-1772730000-1772744400@cateringtolove.org
SUMMARY:CBMC DFW’s Trusted Advisor Forum
DESCRIPTION:We’re honored to serve at the Christian Business Men’s Connection of Dallas–Fort Worth Trusted Advisor Forum. \nThis monthly peer advisory group brings business leaders together for meaningful conversations focused on personal\, professional\, and spiritual growth. It’s always encouraging to see leaders investing in one another and growing together in purpose and impact. \nWe will be serving sliders for dinner\, and we’re grateful to support an evening that strengthens both businesses and the people who lead them. 🍔🙏 \nJoin Us
URL:https://cateringtolove.org/event/cbmc-dfws-trusted-advisor-forum/
ATTACH;FMTTYPE=image/jpeg:https://cateringtolove.org/wp-content/uploads/2025/11/CBMC-LOGO.jpg
END:VEVENT
BEGIN:VEVENT
DTSTART;TZID=UTC:20260307T120000
DTEND;TZID=UTC:20260307T163000
DTSTAMP:20260424T081657
CREATED:20260224T175107Z
LAST-MODIFIED:20260224T175107Z
UID:1035-1772884800-1772901000@cateringtolove.org
SUMMARY:Gowns and Dreams Dress Event
DESCRIPTION:We are honored to serve at the Gowns and Dreams Dress Event hosted by OC-OK (oc-ok.org). This special event provides youth in foster care the opportunity to find a beautiful dress for any upcoming special occasion. \nIt’s a meaningful day designed to help each young person feel confident\, celebrated\, and supported as they prepare for important milestones. \nWe are grateful to serve finger foods and fresh cotton candy to make the day even sweeter. We’re thankful to partner with organizations like OC-OK that are making a lasting impact in the lives of youth and families in our community. 💕 \nJoin Us
URL:https://cateringtolove.org/event/gowns-and-dreams-dress-event/
ATTACH;FMTTYPE=image/png:https://cateringtolove.org/wp-content/uploads/2024/10/OC-OK-LOGO.png
END:VEVENT
BEGIN:VEVENT
DTSTART;TZID=UTC:20260307T200000
DTEND;TZID=UTC:20260307T213000
DTSTAMP:20260424T081657
CREATED:20260226T190334Z
LAST-MODIFIED:20260226T190334Z
UID:1047-1772913600-1772919000@cateringtolove.org
SUMMARY:Foster the Family's Filled Local: Dallas
DESCRIPTION:We’re honored to serve at Foster the Family’s Filled Local: Dallas\, a special weekend retreat created just for foster and adoptive moms. \nThis meaningful time away is designed to encourage\, refresh\, and pour into the women who pour so much into their families every day. It’s always inspiring to see moms come together for connection\, support\, and renewal. \nWe are excited to serve cotton candy and popcorn to add a little extra fun and sweetness to the weekend. We’re grateful to partner in events that celebrate and uplift the incredible moms in our community. 💕🍿✨ \nJoin Us
URL:https://cateringtolove.org/event/foster-the-familys-filled-local-dallas/
ATTACH;FMTTYPE=image/jpeg:https://cateringtolove.org/wp-content/uploads/2026/02/Filled-logo.jpg
END:VEVENT
BEGIN:VEVENT
DTSTART;TZID=UTC:20260319T170000
DTEND;TZID=UTC:20260319T200000
DTSTAMP:20260424T081657
CREATED:20260309T162601Z
LAST-MODIFIED:20260309T162601Z
UID:1057-1773939600-1773950400@cateringtolove.org
SUMMARY:Police and Clergy Coalition - FWPD's Worship Night
DESCRIPTION:We’re honored to be serving dinner at the upcoming Police and Clergy Coalition – FWPD Worship Night. \nThis special gathering brings together community members\, police officers\, and ministers for a meaningful evening of fellowship and worship. Events like this help strengthen relationships and build unity within our community. \nWe are grateful for the opportunity to serve dinner and support this time of connection and encouragement. 💙🙏 \nJoin Us
URL:https://cateringtolove.org/event/police-and-clergy-coalition-fwpds-worship-night/
ATTACH;FMTTYPE=image/jpeg:https://cateringtolove.org/wp-content/uploads/2022/02/FWPD-official-patch.jpg
END:VEVENT
BEGIN:VEVENT
DTSTART;TZID=UTC:20260320T093000
DTEND;TZID=UTC:20260320T103000
DTSTAMP:20260424T081657
CREATED:20260317T143730Z
LAST-MODIFIED:20260317T143730Z
UID:1061-1773999000-1774002600@cateringtolove.org
SUMMARY:UT Southwestern Dallas Family Access Network Staff Training
DESCRIPTION:We’re honored to serve at the UT Southwestern Dallas Family Access Network Staff Training. \nThis training provides an important time for staff to grow\, align\, and continue strengthening the support they provide to families in the community. \nCatering to Love is grateful for the opportunity to serve breakfast and support a team that is making a meaningful impact every day. ☕🥐 \nJoin Us
URL:https://cateringtolove.org/event/ut-southwestern-dallas-family-access-network-staff-training/
ATTACH;FMTTYPE=image/png:https://cateringtolove.org/wp-content/uploads/2026/03/UTSW-medical-logo.png
END:VEVENT
BEGIN:VEVENT
DTSTART;TZID=UTC:20260327T160000
DTEND;TZID=UTC:20260327T200000
DTSTAMP:20260424T081657
CREATED:20260109T175642Z
LAST-MODIFIED:20260109T175642Z
UID:1026-1774627200-1774641600@cateringtolove.org
SUMMARY:Grapevine Community Outreach Volunteer Appreciation Dinner
DESCRIPTION:Grapevine Community Outreach Division is honored to host our Volunteer Appreciation Dinner—a special evening dedicated to celebrating the incredible men and women who serve our community so faithfully. This is a time to say thank you for the countless hours\, quiet sacrifices\, and compassionate hearts you bring every time you serve. \nWe are honored to be invited to serve dinner for this meaningful event. \nJoin Us
URL:https://cateringtolove.org/event/grapevine-community-outreach-volunteer-appreciation-dinner/
ATTACH;FMTTYPE=image/png:https://cateringtolove.org/wp-content/uploads/2023/05/Grapevine-Outreach-Center-Logo.png
END:VEVENT
BEGIN:VEVENT
DTSTART;TZID=UTC:20260328T090000
DTEND;TZID=UTC:20260328T140000
DTSTAMP:20260424T081657
CREATED:20260221T015101Z
LAST-MODIFIED:20260221T015101Z
UID:1034-1774688400-1774706400@cateringtolove.org
SUMMARY:Buckner Family Hope Center West Dallas's Easter Eggstravaganza
DESCRIPTION:We are excited to be part of Buckner Family Hope Center West Dallas and Mercy Street’s annual Easter Eggstravaganza. This large\, family-friendly event brings the community together for a joyful morning filled with egg hunts\, food\, games\, activities\, the Easter story\, and so much more. It’s always a beautiful time of celebration for families of all ages. \nWe are honored to serve hot dogs and fresh cotton candy as part of the festivities. We’re grateful to support events that strengthen families and bring hope to our community. \nJoin Us
URL:https://cateringtolove.org/event/buckner-family-hope-center-west-dallass-easter-eggstravaganza/
ATTACH;FMTTYPE=image/png:https://cateringtolove.org/wp-content/uploads/2025/09/buckner-logo-vertical.png
END:VEVENT
BEGIN:VEVENT
DTSTART;TZID=UTC:20260328T100000
DTEND;TZID=UTC:20260328T130000
DTSTAMP:20260424T081657
CREATED:20260121T222841Z
LAST-MODIFIED:20260121T222841Z
UID:1027-1774692000-1774702800@cateringtolove.org
SUMMARY:Unfaulted's Empowered March 2026
DESCRIPTION:Unfaulted is hosting the Empowered Lifeskills Conference\, a Christ-centered event empowering young women who have aged out of foster care. \nWe will be serving lunch and is seeking volunteers to help serve. This is a great opportunity to support an impactful mission and be part of a day rooted in faith\, service\, and community. \nJoin Us
URL:https://cateringtolove.org/event/unfaulteds-empowered-march-2026-2/
ATTACH;FMTTYPE=image/png:https://cateringtolove.org/wp-content/uploads/2023/05/Unfaulted-Logo.png
END:VEVENT
BEGIN:VEVENT
DTSTART;TZID=UTC:20260331T100000
DTEND;TZID=UTC:20260331T113000
DTSTAMP:20260424T081657
CREATED:20260224T183227Z
LAST-MODIFIED:20260224T183227Z
UID:1036-1774951200-1774956600@cateringtolove.org
SUMMARY:Tarrant County's 5 Stones Taskforce March Luncheon
DESCRIPTION:5 Stones\, FWPD’s counter-human  trafficking taskforce\, has invited us out to serve lunch to the local non-profits\, churches\, government agencies and others who gather to collaborate on the battle against human trafficking.  We’re looking for folks who’d like to help cook and/or serve with us! Contact us for more details. \nJoin Us
URL:https://cateringtolove.org/event/tarrant-countys-5-stones-taskforce-march-luncheon/
ATTACH;FMTTYPE=image/png:https://cateringtolove.org/wp-content/uploads/2022/03/5-stones-Logo-1-21-small.png
END:VEVENT
END:VCALENDAR