BEGIN:VCALENDAR
VERSION:2.0
PRODID:-//Catering to Love - ECPv6.14.2//NONSGML v1.0//EN
CALSCALE:GREGORIAN
METHOD:PUBLISH
X-WR-CALNAME:Catering to Love
X-ORIGINAL-URL:https://cateringtolove.org
X-WR-CALDESC:Events for Catering to Love
REFRESH-INTERVAL;VALUE=DURATION:PT1H
X-Robots-Tag:noindex
X-PUBLISHED-TTL:PT1H
BEGIN:VTIMEZONE
TZID:UTC
BEGIN:STANDARD
TZOFFSETFROM:+0000
TZOFFSETTO:+0000
TZNAME:UTC
DTSTART:20240101T000000
END:STANDARD
END:VTIMEZONE
BEGIN:VEVENT
DTSTART;TZID=UTC:20240928T093000
DTEND;TZID=UTC:20240928T130000
DTSTAMP:20260419T130654
CREATED:20240320T211617Z
LAST-MODIFIED:20240320T211617Z
UID:733-1727515800-1727528400@cateringtolove.org
SUMMARY:FWPD Annual Community Safety Fair
DESCRIPTION:North division’s annual community safety fair. They’ve asked that we have some volunteers come and serve snow cones to the public while promoting community unity and safety. \nJoin Us
URL:https://cateringtolove.org/event/fwpd-annual-community-safety-fair-2/
ATTACH;FMTTYPE=image/jpeg:https://cateringtolove.org/wp-content/uploads/2022/02/FWPD-official-patch.jpg
END:VEVENT
BEGIN:VEVENT
DTSTART;TZID=UTC:20240924T080000
DTEND;TZID=UTC:20240924T130000
DTSTAMP:20260419T130654
CREATED:20240706T163352Z
LAST-MODIFIED:20240706T163352Z
UID:750-1727164800-1727182800@cateringtolove.org
SUMMARY:FWPD's 5-Stones Task Force Luncheon
DESCRIPTION:5 Stones\, FWPD’s counter-human  trafficking taskforce\, has invited us out to serve lunch to the local non-profits\, churches\, government agencies and others who gather to collaborate on the battle against human trafficking.  We’re looking for folks who’d like to help cook and/or serve with us! Contact us for more details. \nJoin Us
URL:https://cateringtolove.org/event/fwpds-5-stones-task-force-luncheon-24/
LOCATION:FWPD Major Case Unit\, 1000 Calvert St\, Fort Worth\, TX\, 76107\, United States
ATTACH;FMTTYPE=image/png:https://cateringtolove.org/wp-content/uploads/2022/03/5-stones-Logo-1-21-small.png
END:VEVENT
BEGIN:VEVENT
DTSTART;TZID=UTC:20240923T133000
DTEND;TZID=UTC:20240923T160000
DTSTAMP:20260419T130654
CREATED:20240513T173522Z
LAST-MODIFIED:20240513T173522Z
UID:737-1727098200-1727107200@cateringtolove.org
SUMMARY:BRAVE - Parker County
DESCRIPTION:The Hope Local team has invited us to come out and serve dinner to the guests coming to learn about foster care as well as the many agencies and volunteers who come to help connect the foster community.  We’re in need of help cooking for this event. \nJoin Us
URL:https://cateringtolove.org/event/brave-parker-county/
ATTACH;FMTTYPE=image/png:https://cateringtolove.org/wp-content/uploads/2022/02/Hope-Local-Logo.png
END:VEVENT
BEGIN:VEVENT
DTSTART;TZID=UTC:20240921T103000
DTEND;TZID=UTC:20240921T150000
DTSTAMP:20260419T130654
CREATED:20240906T184150Z
LAST-MODIFIED:20240906T184420Z
UID:799-1726914600-1726930800@cateringtolove.org
SUMMARY:FOTP Northlake's Bed Build 2024
DESCRIPTION:Fellowship of the Parks is doing a bed build event for the orphan care space.  These beds will be sent all over Texas in coordination with CPS to help ensure every kid had a bed to sleep in.  We’re looking for help preparing and/or cooking burgers for the 300 volunteers pulling this together in Northlake. \nJoin Us
URL:https://cateringtolove.org/event/799/
ATTACH;FMTTYPE=image/png:https://cateringtolove.org/wp-content/uploads/2024/09/FOTP-Logo.png
END:VEVENT
BEGIN:VEVENT
DTSTART;TZID=UTC:20240920T130000
DTEND;TZID=UTC:20240920T170000
DTSTAMP:20260419T130654
CREATED:20240629T144733Z
LAST-MODIFIED:20240629T144733Z
UID:742-1726837200-1726851600@cateringtolove.org
SUMMARY:Kinship Picnic for Grandparents Raising Grandchildren
DESCRIPTION:Unite the Church\, supported by United Healthcare\, invited us out to grill our delicious burgers and dogs for the grandparents bringing out their grandchildren for a picnic day in the park.  We’re looking for help prepping the burgers (we don’t do hocky pucks)\, bacon (yeah\, that’s right) and fixin’s. \nJoin Us
URL:https://cateringtolove.org/event/kinship-picnic-for-grandparents-raising-grandchildren/
LOCATION:Catering to Love\, Grapevine\, TX\, 76051\, United States
ATTACH;FMTTYPE=image/png:https://cateringtolove.org/wp-content/uploads/2023/12/unite-dfw-logo.png
END:VEVENT
BEGIN:VEVENT
DTSTART;TZID=UTC:20240913T070000
DTEND;TZID=UTC:20240913T100000
DTSTAMP:20260419T130655
CREATED:20240906T000750Z
LAST-MODIFIED:20240906T000750Z
UID:796-1726210800-1726221600@cateringtolove.org
SUMMARY:USQRA Low Pointers Wheelchair Rugby Tournament
DESCRIPTION:Indoor sporting event held at a public recreation center in Irving. We utilize one basketball for rugby games that start at 10 AM. We are hosting 6 teams from around the country. Athletes classify highly disabled typically affecting all four limbs. We provide lunch to the athletes\, their team staff\, league officials\, volunteers and RISE staff.  The tournament runs Friday – Sunday.  We’ve been asked to cook and serve lunch on 13SEP and 14SEP. We’re looking for help cooking and prepping these meals on 12SEP\, 13SEP and 14SEP mornings. \nJoin Us
URL:https://cateringtolove.org/event/usqra-low-pointers-wheelchair-rugby-tournament/
ATTACH;FMTTYPE=image/png:https://cateringtolove.org/wp-content/uploads/2024/09/rise-adaptive-sports-logo.png
END:VEVENT
BEGIN:VEVENT
DTSTART;TZID=UTC:20240907T063000
DTEND;TZID=UTC:20240907T110000
DTSTAMP:20260419T130655
CREATED:20240906T010309Z
LAST-MODIFIED:20240906T010330Z
UID:798-1725690600-1725706800@cateringtolove.org
SUMMARY:Empowered: Hobbies
DESCRIPTION:A fun-filled day exploring a variety of hobbies and interests. They will hear from experts and enjoy hands-on opportunities to learn about what hobbies & interests attendees most enjoy. This conference is for girls aged 16-25 who have aged out or are currently in foster care. \nJoin Us
URL:https://cateringtolove.org/event/798/
ATTACH;FMTTYPE=image/png:https://cateringtolove.org/wp-content/uploads/2023/05/Unfaulted-Logo.png
END:VEVENT
BEGIN:VEVENT
DTSTART;TZID=UTC:20240902T080000
DTEND;TZID=UTC:20240902T150000
DTSTAMP:20260419T130655
CREATED:20240629T144239Z
LAST-MODIFIED:20240629T144239Z
UID:741-1725264000-1725289200@cateringtolove.org
SUMMARY:Cornerstone's Labor Day of Praise 2024
DESCRIPTION:Once a year Cornerstone Baptist Church in South Dallas hosts a Labor Day of Praise where bands come together and bless the local homeless community with a family picnic type experience. We’ve been asked to cook and serve a Cajun lunch and snowcones + cotton candy! Dress code is picnic / get messy casual. We’ll be doing a plated to the table service\, where we serve a yummy plate of Red Beans and Rice\, Sweet Cornbread and Cajun Corn on the Cob followed by banana puddin’. You’ll be on your feet moving quite a bit\, so this will be your workout for the day 😉 \nSign Up Here
URL:https://cateringtolove.org/event/cornerstones-labor-day-of-praise-2024/
ATTACH;FMTTYPE=image/webp:https://cateringtolove.org/wp-content/uploads/2022/07/Cornerstone-Baptist-Church-Logo.webp
END:VEVENT
BEGIN:VEVENT
DTSTART;TZID=UTC:20240831T050000
DTEND;TZID=UTC:20240831T080000
DTSTAMP:20260419T130655
CREATED:20240614T170438Z
LAST-MODIFIED:20240614T170438Z
UID:739-1725080400-1725091200@cateringtolove.org
SUMMARY:Hope Local's Abide
DESCRIPTION:Abide is a hope-filled mini-conference for foster\, adoptive\, and kinship parents to experience rest\, connection\, and education to encourage them as they walk the road of foster care\, kinship care\, and adoption.  We’re looking for help cooking breakfast. \nJoin Us
URL:https://cateringtolove.org/event/hope-locals-abide-2/
ATTACH;FMTTYPE=image/png:https://cateringtolove.org/wp-content/uploads/2022/02/Hope-Local-Logo.png
END:VEVENT
BEGIN:VEVENT
DTSTART;TZID=UTC:20240827T080000
DTEND;TZID=UTC:20240827T130000
DTSTAMP:20260419T130655
CREATED:20240706T163828Z
LAST-MODIFIED:20240706T163828Z
UID:751-1724745600-1724763600@cateringtolove.org
SUMMARY:FWPD's 5-Stones Task Force Luncheon
DESCRIPTION:5 Stones\, FWPD’s counter-human  trafficking taskforce\, has invited us out to serve lunch to the local non-profits\, churches\, government agencies and others who gather to collaborate on the battle against human trafficking.  We’re looking for folks who’d like to help cook and/or serve with us! Contact us for more details. \nJoin Us
URL:https://cateringtolove.org/event/fwpds-5-stones-task-force-luncheon-25/
LOCATION:FWPD Major Case Unit\, 1000 Calvert St\, Fort Worth\, TX\, 76107\, United States
ATTACH;FMTTYPE=image/png:https://cateringtolove.org/wp-content/uploads/2022/03/5-stones-Logo-1-21-small.png
END:VEVENT
BEGIN:VEVENT
DTSTART;TZID=UTC:20240730T080000
DTEND;TZID=UTC:20240730T113000
DTSTAMP:20260419T130655
CREATED:20231220T210752Z
LAST-MODIFIED:20231220T210752Z
UID:701-1722326400-1722339000@cateringtolove.org
SUMMARY:FWPD's 5-Stones Task Force Luncheon
DESCRIPTION:5 Stones\, FWPD’s counter-human  trafficking taskforce\, has invited us out to serve lunch to the local non-profits\, churches\, government agencies and others who gather to collaborate on the battle against human trafficking.  We’re looking for folks who’d like to help cook and/or serve with us! Contact us for more details. \nJoin Us
URL:https://cateringtolove.org/event/fwpds-5-stones-task-force-luncheon-18-2-2-2-2-2-2-2/
ATTACH;FMTTYPE=image/png:https://cateringtolove.org/wp-content/uploads/2022/03/5-stones-Logo-1-21-small.png
END:VEVENT
BEGIN:VEVENT
DTSTART;TZID=UTC:20240725T080000
DTEND;TZID=UTC:20240725T153000
DTSTAMP:20260419T130655
CREATED:20240217T203806Z
LAST-MODIFIED:20240217T203806Z
UID:719-1721894400-1721921400@cateringtolove.org
SUMMARY:Keller ISD Back 2 School Bash!
DESCRIPTION:KISD is having a Back 2 School Back to welcome students for the new school year. Students can receive backpacks with school supplies\, health screenings and vaccinations and…. Snow Cones and Cotton Candy!  We’re looking for help with the later of that. \nJoin Us
URL:https://cateringtolove.org/event/keller-isd-back-2-school-bash/
ATTACH;FMTTYPE=image/png:https://cateringtolove.org/wp-content/uploads/2022/07/sos_logo.png
END:VEVENT
BEGIN:VEVENT
DTSTART;TZID=UTC:20240625T080000
DTEND;TZID=UTC:20240625T113000
DTSTAMP:20260419T130655
CREATED:20231220T210726Z
LAST-MODIFIED:20231220T210726Z
UID:700-1719302400-1719315000@cateringtolove.org
SUMMARY:FWPD's 5-Stones Task Force Luncheon
DESCRIPTION:5 Stones\, FWPD’s counter-human  trafficking taskforce\, has invited us out to serve lunch to the local non-profits\, churches\, government agencies and others who gather to collaborate on the battle against human trafficking.  We’re looking for folks who’d like to help cook and/or serve with us! Contact us for more details. \nJoin Us
URL:https://cateringtolove.org/event/fwpds-5-stones-task-force-luncheon-18-2-2-2-2-2-2/
ATTACH;FMTTYPE=image/png:https://cateringtolove.org/wp-content/uploads/2022/03/5-stones-Logo-1-21-small.png
END:VEVENT
BEGIN:VEVENT
DTSTART;TZID=UTC:20240608T113000
DTEND;TZID=UTC:20240608T143000
DTSTAMP:20260419T130655
CREATED:20231226T193636Z
LAST-MODIFIED:20231226T193636Z
UID:708-1717846200-1717857000@cateringtolove.org
SUMMARY:Upbring Summer Kickoff
DESCRIPTION:Upbring would like to kickoff summer with our foster families and celebrate all the kiddo’s hard work during the school year! We would like to provide safe\, family fun to help the kids feel accomplished and the foster parents kick back and relax! We’ve been asked to come and serve BBQ\, popcorn and snowcones. \nJoin Us
URL:https://cateringtolove.org/event/upbring-summer-kickoff/
ATTACH;FMTTYPE=image/png:https://cateringtolove.org/wp-content/uploads/2023/05/Upbring-logo-Faith-RGB.png
END:VEVENT
BEGIN:VEVENT
DTSTART;TZID=UTC:20240531T080000
DTEND;TZID=UTC:20240531T130000
DTSTAMP:20260419T130655
CREATED:20240124T235146Z
LAST-MODIFIED:20240124T235146Z
UID:716-1717142400-1717160400@cateringtolove.org
SUMMARY:Feed our Kids
DESCRIPTION:The Feed Our Kids program was started by GRACE in 2005 with the mission to provide lunches for area children during the summer weeks when they may otherwise not receive a midday meal. Feed Our Kids fills these “hungry” weeks with sack lunches\, milk\, smiles\, and a loving atmosphere.  We’ve been invited to make a BBQ lunch for the police department to serve to the kids. \nJoin Us
URL:https://cateringtolove.org/event/feed-our-kids-2/
ATTACH;FMTTYPE=image/png:https://cateringtolove.org/wp-content/uploads/2023/05/Grapevine-Outreach-Center-Logo.png
END:VEVENT
BEGIN:VEVENT
DTSTART;TZID=UTC:20240528T080000
DTEND;TZID=UTC:20240528T113000
DTSTAMP:20260419T130655
CREATED:20231220T210651Z
LAST-MODIFIED:20231220T210651Z
UID:699-1716883200-1716895800@cateringtolove.org
SUMMARY:FWPD's 5-Stones Task Force Luncheon
DESCRIPTION:5 Stones\, FWPD’s counter-human  trafficking taskforce\, has invited us out to serve lunch to the local non-profits\, churches\, government agencies and others who gather to collaborate on the battle against human trafficking.  We’re looking for folks who’d like to help cook and/or serve with us! Contact us for more details. \nJoin Us
URL:https://cateringtolove.org/event/fwpds-5-stones-task-force-luncheon-18-2-2-2-2-2/
ATTACH;FMTTYPE=image/png:https://cateringtolove.org/wp-content/uploads/2022/03/5-stones-Logo-1-21-small.png
END:VEVENT
BEGIN:VEVENT
DTSTART;TZID=UTC:20240511T093000
DTEND;TZID=UTC:20240511T110000
DTSTAMP:20260419T130655
CREATED:20240306T212144Z
LAST-MODIFIED:20240307T230021Z
UID:721-1715419800-1715425200@cateringtolove.org
SUMMARY:WorldRelief Partner Appreciation Event
DESCRIPTION:World Relief has invited us to cook and serve breakfast at their annual appreciation event for our volunteers\, donors\, and church partners.  We’re looking for help serving at this one! \nJoin Us
URL:https://cateringtolove.org/event/worldrelief-partner-appreciation-event/
ATTACH;FMTTYPE=image/png:https://cateringtolove.org/wp-content/uploads/2023/03/World-Relief-black-logo.png
END:VEVENT
BEGIN:VEVENT
DTSTART;TZID=UTC:20240510T130000
DTEND;TZID=UTC:20240510T170000
DTSTAMP:20260419T130655
CREATED:20240124T232803Z
LAST-MODIFIED:20240124T232803Z
UID:714-1715346000-1715360400@cateringtolove.org
SUMMARY:Hope Local's Abide
DESCRIPTION:Abide is a hope-filled mini-conference for foster\, adoptive\, and kinship parents to experience rest\, connection\, and education to encourage them as they walk the road of foster care\, kinship care\, and adoption.  We’re looking for help cooking our taco bar. \nJoin Us
URL:https://cateringtolove.org/event/hope-locals-abide/
ATTACH;FMTTYPE=image/png:https://cateringtolove.org/wp-content/uploads/2022/02/Hope-Local-Logo.png
END:VEVENT
BEGIN:VEVENT
DTSTART;TZID=UTC:20240506T120000
DTEND;TZID=UTC:20240506T160000
DTSTAMP:20260419T130655
CREATED:20240124T224415Z
LAST-MODIFIED:20240124T224415Z
UID:712-1714996800-1715011200@cateringtolove.org
SUMMARY:BRAVE - Johnson County
DESCRIPTION:The Hope Local team has invited us to come out and serve dinner to the guests coming to learn about foster care as well as the many agencies and volunteers who come to help connect the foster community.  We’re in need of help cooking for this event. \nJoin Us
URL:https://cateringtolove.org/event/brave-johnson-county-2/
ATTACH;FMTTYPE=image/png:https://cateringtolove.org/wp-content/uploads/2022/02/Hope-Local-Logo.png
END:VEVENT
BEGIN:VEVENT
DTSTART;TZID=UTC:20240504T063000
DTEND;TZID=UTC:20240504T090000
DTSTAMP:20260419T130655
CREATED:20240124T230547Z
LAST-MODIFIED:20240124T230547Z
UID:713-1714804200-1714813200@cateringtolove.org
SUMMARY:Mother's Day Brunch
DESCRIPTION:During Mother’s Day Month\, we celebrate the moms in our community by treating them to a full breakfast\, poem reading\, short mom stories\, songs\, and a raffle for a chance to win a Mother’s Day Basket donated by one of our partnered churches. Families also have the opportunity to take a professional picture\, which will be provided to them in the following days. We’ve been invited to cook up lunch and serve the moms and are looking for help cooking \nJoin Us
URL:https://cateringtolove.org/event/mothers-day-brunch/
ATTACH;FMTTYPE=image/png:https://cateringtolove.org/wp-content/uploads/2023/05/Grapevine-Outreach-Center-Logo.png
END:VEVENT
BEGIN:VEVENT
DTSTART;TZID=UTC:20240502T140000
DTEND;TZID=UTC:20240502T180000
DTSTAMP:20260419T130655
CREATED:20240328T213059Z
LAST-MODIFIED:20240328T213059Z
UID:735-1714658400-1714672800@cateringtolove.org
SUMMARY:CEC's Partners in Hope 2024
DESCRIPTION:Our family at the Community Enrichment Center in North Richland Hills asked us to come and serve their volunteers an appreciation lunch. We’re looking for help prepping the meal the day head. \nJoin Us
URL:https://cateringtolove.org/event/cecs-partners-in-hope-2024/
ATTACH;FMTTYPE=image/png:https://cateringtolove.org/wp-content/uploads/2022/02/CEC-Logo.png
END:VEVENT
BEGIN:VEVENT
DTSTART;TZID=UTC:20240430T080000
DTEND;TZID=UTC:20240430T113000
DTSTAMP:20260419T130655
CREATED:20231220T210622Z
LAST-MODIFIED:20231220T210622Z
UID:698-1714464000-1714476600@cateringtolove.org
SUMMARY:FWPD's 5-Stones Task Force Luncheon
DESCRIPTION:5 Stones\, FWPD’s counter-human  trafficking taskforce\, has invited us out to serve lunch to the local non-profits\, churches\, government agencies and others who gather to collaborate on the battle against human trafficking.  We’re looking for folks who’d like to help cook and/or serve with us! Contact us for more details. \nJoin Us
URL:https://cateringtolove.org/event/fwpds-5-stones-task-force-luncheon-18-2-2-2-2/
ATTACH;FMTTYPE=image/png:https://cateringtolove.org/wp-content/uploads/2022/03/5-stones-Logo-1-21-small.png
END:VEVENT
BEGIN:VEVENT
DTSTART;TZID=UTC:20240423T120000
DTEND;TZID=UTC:20240423T163000
DTSTAMP:20260419T130655
CREATED:20231107T213843Z
LAST-MODIFIED:20231107T213843Z
UID:690-1713873600-1713889800@cateringtolove.org
SUMMARY:BRAVE - Tarrant County
DESCRIPTION:The Hope Local team has invited us to come out and serve dinner to the guests coming to learn about foster care as well as the many agencies and volunteers who come to help connect the foster community.  We’re in need of help cooking for this event. \nJoin Us
URL:https://cateringtolove.org/event/brave-tarrant-county-2/
ATTACH;FMTTYPE=image/png:https://cateringtolove.org/wp-content/uploads/2022/02/Hope-Local-Logo.png
END:VEVENT
BEGIN:VEVENT
DTSTART;TZID=UTC:20240403T170000
DTEND;TZID=UTC:20240403T203000
DTSTAMP:20260419T130655
CREATED:20230512T201241Z
LAST-MODIFIED:20240307T230103Z
UID:571-1712163600-1712176200@cateringtolove.org
SUMMARY:Liga HEB Champions Cup Finals 2024
DESCRIPTION:Post-game cookout to celebrate 6-Stones’ Liga HEB intramural soccer season. We’re looking for a small serve team who’d like to bring out the grill\, cook and serve burgers and snow cones to the kids.  We’re happy to prep the burgers (just say no to frozen patties!) \nJoin Us
URL:https://cateringtolove.org/event/liga-heb-champions-cup-finals-2024/
ATTACH;FMTTYPE=image/png:https://cateringtolove.org/wp-content/uploads/2023/03/6-Stones-2-color-300x146-1.png
END:VEVENT
BEGIN:VEVENT
DTSTART;TZID=UTC:20240403T130000
DTEND;TZID=UTC:20240403T170000
DTSTAMP:20260419T130655
CREATED:20240124T233552Z
LAST-MODIFIED:20240124T233552Z
UID:715-1712149200-1712163600@cateringtolove.org
SUMMARY:Family Game Night
DESCRIPTION:This will be our 3rd annual Family Game Night\, an evening where parents and kids come out and play yard games\, board games\, and card games as a family. We demonstrate to them how to plan a family game night and they get to take a board game or card game home at the end of the night. We’ve been invited to cook up our taco bar and are looking for help with that \nJoin Us
URL:https://cateringtolove.org/event/family-game-night/
ATTACH;FMTTYPE=image/png:https://cateringtolove.org/wp-content/uploads/2023/05/Grapevine-Outreach-Center-Logo.png
END:VEVENT
BEGIN:VEVENT
DTSTART;TZID=UTC:20240403T130000
DTEND;TZID=UTC:20240403T170000
DTSTAMP:20260419T130655
CREATED:20231226T191914Z
LAST-MODIFIED:20240327T222630Z
UID:705-1712149200-1712163600@cateringtolove.org
SUMMARY:Unite DFW Dallas City Convene
DESCRIPTION:Bring people from DFW – strategy\, mission\, goals\, review 2023 and cast a vision for 2024 going forward. Everyone has a loved one to care for – holistic flourishing. Unite’s opportunity to bring ALL (different people) to the table and we all have a part to play. \nStrategy: Community Impact Model – building an infractrue of leaders\nVision: Holistic Flourishing for everyone in DFW\nMission: Build the community impact model \nWe’ve been invited to cook and serve breakfast and lunch at this event.  We’re looking for help with the prep and cooking! \nJoin Us
URL:https://cateringtolove.org/event/unite-dfw-dallas-city-convene/
LOCATION:Catering to Love\, Grapevine\, TX\, 76051\, United States
ATTACH;FMTTYPE=image/png:https://cateringtolove.org/wp-content/uploads/2023/12/unite-dfw-logo.png
END:VEVENT
BEGIN:VEVENT
DTSTART;TZID=UTC:20240403T100000
DTEND;TZID=UTC:20240403T140000
DTSTAMP:20260419T130655
CREATED:20240307T212750Z
LAST-MODIFIED:20240307T212750Z
UID:724-1712138400-1712152800@cateringtolove.org
SUMMARY:Tapestry Mom's Retreat 2024
DESCRIPTION:This is a mom’s retreat for adoptive\, foster\, and kinship moms to get a break from the everyday and learn about caring for themselves.  We’ve been invited to cook our taco and BBQ dinners and are looking for help with that. \nJoin Us
URL:https://cateringtolove.org/event/tapestry-moms-retreat-2024/
ATTACH;FMTTYPE=image/jpeg:https://cateringtolove.org/wp-content/uploads/2023/05/Tapestry-Logo.jpg
END:VEVENT
BEGIN:VEVENT
DTSTART;TZID=UTC:20240330T110000
DTEND;TZID=UTC:20240330T170000
DTSTAMP:20260419T130655
CREATED:20240307T224858Z
LAST-MODIFIED:20240307T224858Z
UID:725-1711796400-1711818000@cateringtolove.org
SUMMARY:Freedom Church's Rock the Block 2024
DESCRIPTION:We have this event to help bring the families out in the community. We want to provide them an opportunity to have fun and engage with their children. We just want to show them the love of Christ during the celebration of his resurrection. We’ve been invited to bring out our popcorn and games. \nJoin Us
URL:https://cateringtolove.org/event/freedom-churchs-rock-the-block-2024/
ATTACH;FMTTYPE=image/webp:https://cateringtolove.org/wp-content/uploads/2024/03/FreedomChurch-Logo.webp
END:VEVENT
BEGIN:VEVENT
DTSTART;TZID=UTC:20240326T080000
DTEND;TZID=UTC:20240326T113000
DTSTAMP:20260419T130655
CREATED:20231220T210539Z
LAST-MODIFIED:20231220T210539Z
UID:697-1711440000-1711452600@cateringtolove.org
SUMMARY:FWPD's 5-Stones Task Force Luncheon
DESCRIPTION:5 Stones\, FWPD’s counter-human  trafficking taskforce\, has invited us out to serve lunch to the local non-profits\, churches\, government agencies and others who gather to collaborate on the battle against human trafficking.  We’re looking for folks who’d like to help cook and/or serve with us! Contact us for more details. \nJoin Us
URL:https://cateringtolove.org/event/fwpds-5-stones-task-force-luncheon-18-2-2-2/
ATTACH;FMTTYPE=image/png:https://cateringtolove.org/wp-content/uploads/2022/03/5-stones-Logo-1-21-small.png
END:VEVENT
BEGIN:VEVENT
DTSTART;TZID=UTC:20240325T120000
DTEND;TZID=UTC:20240325T163000
DTSTAMP:20260419T130655
CREATED:20240319T014802Z
LAST-MODIFIED:20240319T014802Z
UID:731-1711368000-1711384200@cateringtolove.org
SUMMARY:BRAVE - Southlake
DESCRIPTION:The Hope Local team has invited us to come out and serve dinner to the guests coming to learn about foster care as well as the many agencies and volunteers who come to help connect the foster community.  We’re in need of help cooking for this event. \nJoin Us
URL:https://cateringtolove.org/event/brave-southlake-2/
ATTACH;FMTTYPE=image/png:https://cateringtolove.org/wp-content/uploads/2022/02/Hope-Local-Logo.png
END:VEVENT
END:VCALENDAR