BEGIN:VCALENDAR
VERSION:2.0
PRODID:-//Catering to Love - ECPv6.15.20//NONSGML v1.0//EN
CALSCALE:GREGORIAN
METHOD:PUBLISH
X-WR-CALNAME:Catering to Love
X-ORIGINAL-URL:https://cateringtolove.org
X-WR-CALDESC:Events for Catering to Love
REFRESH-INTERVAL;VALUE=DURATION:PT1H
X-Robots-Tag:noindex
X-PUBLISHED-TTL:PT1H
BEGIN:VTIMEZONE
TZID:UTC
BEGIN:STANDARD
TZOFFSETFROM:+0000
TZOFFSETTO:+0000
TZNAME:UTC
DTSTART:20250101T000000
END:STANDARD
END:VTIMEZONE
BEGIN:VEVENT
DTSTART;TZID=UTC:20260424T150000
DTEND;TZID=UTC:20260424T210000
DTSTAMP:20260424T093259
CREATED:20260322T233452Z
LAST-MODIFIED:20260322T233452Z
UID:1071-1777042800-1777064400@cateringtolove.org
SUMMARY:Community Enrichment Center’s Volunteer Appreciation
DESCRIPTION:We’re honored to serve at the Community Enrichment Center’s Volunteer Appreciation event. \nThis special evening is dedicated to celebrating and thanking the volunteers and groups who faithfully served throughout 2025. It’s a meaningful time to recognize the impact of those who give their time and heart to support the community. \nWe are grateful to serve dinner and be part of a night filled with appreciation\, connection\, and celebration. 💙 \n\n\n\n\n\n\n\nJoin Us
URL:https://cateringtolove.org/event/community-enrichment-centers-volunteer-appreciation/
ATTACH;FMTTYPE=image/png:https://cateringtolove.org/wp-content/uploads/2022/02/CEC-Logo.png
END:VEVENT
BEGIN:VEVENT
DTSTART;TZID=UTC:20260424T170000
DTEND;TZID=UTC:20260424T200000
DTSTAMP:20260424T093259
CREATED:20260322T205802Z
LAST-MODIFIED:20260322T205802Z
UID:1066-1777050000-1777060800@cateringtolove.org
SUMMARY:CBMC DFW TAF Members + Wives Dinner
DESCRIPTION:We’re honored to serve at the Christian Business Men’s Connection (CBMC) DFW TAF Members + Wives Dinner. \nThis special evening is a time of connection\, appreciation\, and fellowship for the members of the three TAF peer advisory groups across the Dallas–Fort Worth area. It’s a meaningful opportunity to celebrate relationships and the impact these leaders are making in their workplaces and communities. \nWe are grateful to serve dinner and be part of this event. We are also looking for volunteers to help serve during the evening. If you’d like to be part of blessing others and supporting this gathering\, we would love for you to join us! 💙 \n\n\n\n\n\n\n\nJoin Us
URL:https://cateringtolove.org/event/cbmc-dfw-taf-members-wives-dinner/
ATTACH;FMTTYPE=image/jpeg:https://cateringtolove.org/wp-content/uploads/2025/11/CBMC-LOGO.jpg
END:VEVENT
END:VCALENDAR