BEGIN:VCALENDAR
VERSION:2.0
PRODID:-//Catering to Love - ECPv6.15.20//NONSGML v1.0//EN
CALSCALE:GREGORIAN
METHOD:PUBLISH
X-WR-CALNAME:Catering to Love
X-ORIGINAL-URL:https://cateringtolove.org
X-WR-CALDESC:Events for Catering to Love
REFRESH-INTERVAL;VALUE=DURATION:PT1H
X-Robots-Tag:noindex
X-PUBLISHED-TTL:PT1H
BEGIN:VTIMEZONE
TZID:UTC
BEGIN:STANDARD
TZOFFSETFROM:+0000
TZOFFSETTO:+0000
TZNAME:UTC
DTSTART:20250101T000000
END:STANDARD
END:VTIMEZONE
BEGIN:VEVENT
DTSTART;TZID=UTC:20260423T070000
DTEND;TZID=UTC:20260423T130000
DTSTAMP:20260423T093843
CREATED:20260402T204709Z
LAST-MODIFIED:20260402T204709Z
UID:1083-1776927600-1776949200@cateringtolove.org
SUMMARY:Dallas County Crime Victims Council event
DESCRIPTION:We are honored to serve at the Dallas County Crime Victims Council event during National Crime Victims’ Rights Week. \nThis meaningful gathering is dedicated to honoring victims of crime\, supporting their journeys\, and bringing the community together in remembrance and hope. The event will conclude with a special bubble release\, symbolizing healing and unity. \nWe will be serving breakfast as we come alongside this important occasion\, helping create a welcoming and supportive environment for all who attend. \nWe are currently looking for volunteers to help prep\, serve\, and support the event. If you’d like to be part of this meaningful time\, we would love to have you join us. \nWe are grateful to be part of such a powerful and heartfelt event. 💙 \nJoin Us
URL:https://cateringtolove.org/event/dallas-county-crime-victims-council-event/
ATTACH;FMTTYPE=image/png:https://cateringtolove.org/wp-content/uploads/2026/04/Dallas-County-Crime-Victim-Council-.png
END:VEVENT
END:VCALENDAR