BEGIN:VCALENDAR
VERSION:2.0
PRODID:-//Catering to Love - ECPv6.15.20//NONSGML v1.0//EN
CALSCALE:GREGORIAN
METHOD:PUBLISH
X-WR-CALNAME:Catering to Love
X-ORIGINAL-URL:https://cateringtolove.org
X-WR-CALDESC:Events for Catering to Love
REFRESH-INTERVAL;VALUE=DURATION:PT1H
X-Robots-Tag:noindex
X-PUBLISHED-TTL:PT1H
BEGIN:VTIMEZONE
TZID:UTC
BEGIN:STANDARD
TZOFFSETFROM:+0000
TZOFFSETTO:+0000
TZNAME:UTC
DTSTART:20230101T000000
END:STANDARD
END:VTIMEZONE
BEGIN:VEVENT
DTSTART;TZID=UTC:20241018T100000
DTEND;TZID=UTC:20241018T130000
DTSTAMP:20260423T095609
CREATED:20240927T212851Z
LAST-MODIFIED:20240927T212851Z
UID:817-1729245600-1729256400@cateringtolove.org
SUMMARY:BRAVE @ St Paul Lutheran Church
DESCRIPTION:The Hope Local team has invited us to come out and serve dinner to the guests coming to learn about foster care as well as the many agencies and volunteers who come to help connect the foster community.  We’re in need of help cooking for this event. \nJoin Us
URL:https://cateringtolove.org/event/brave-st-paul-lutheran-church/
ATTACH;FMTTYPE=image/png:https://cateringtolove.org/wp-content/uploads/2022/02/Hope-Local-Logo.png
END:VEVENT
END:VCALENDAR