BEGIN:VCALENDAR
VERSION:2.0
PRODID:-//Catering to Love - ECPv6.15.20//NONSGML v1.0//EN
CALSCALE:GREGORIAN
METHOD:PUBLISH
X-WR-CALNAME:Catering to Love
X-ORIGINAL-URL:https://cateringtolove.org
X-WR-CALDESC:Events for Catering to Love
REFRESH-INTERVAL;VALUE=DURATION:PT1H
X-Robots-Tag:noindex
X-PUBLISHED-TTL:PT1H
BEGIN:VTIMEZONE
TZID:UTC
BEGIN:STANDARD
TZOFFSETFROM:+0000
TZOFFSETTO:+0000
TZNAME:UTC
DTSTART:20230101T000000
END:STANDARD
END:VTIMEZONE
BEGIN:VEVENT
DTSTART;TZID=UTC:20241013T150000
DTEND;TZID=UTC:20241013T193000
DTSTAMP:20260423T083333
CREATED:20240919T175733Z
LAST-MODIFIED:20240919T175733Z
UID:775-1728831600-1728847800@cateringtolove.org
SUMMARY:13th Annual Family Fall Festival
DESCRIPTION:The goal of this fall festival is to make a time and space for foster\, adoptive and kinship families to come together in a family-only setting. No social workers nor vendors will be present. We’re doing all we can to take down any borders and brands to make this as community as it can be. Click See Details here to see the volunteer roles\, details and signup sheet. You can see the event page to get an idea of what that families are looking forward to here: Family Fall Festival – Catering to Love. \nSee Details
URL:https://cateringtolove.org/event/13th-annual-family-fall-festival/
LOCATION:Christ’s Haven for Children\, 4200 Keller Haslet Rd\, Keller\, TX\, 76244\, United States
ATTACH;FMTTYPE=image/png:https://cateringtolove.org/wp-content/uploads/2022/10/CTL-logo.png
ORGANIZER;CN="Catering to Love":MAILTO:CateringToLove@CateringToLove.org
END:VEVENT
END:VCALENDAR